BEGIN:VCALENDAR
VERSION:2.0
PRODID:-//Department Of Education//b988301d-8acb-4b32-a1b5-5c50271a7c00
BEGIN:VTIMEZONE
TZID:Australia/Sydney
TZURL:http://tzurl.org/zoneinfo-outlook/Australia/Sydney
X-LIC-LOCATION:Australia/Sydney
BEGIN:STANDARD
TZOFFSETFROM:+1100
TZOFFSETTO:+1000
TZNAME:AEST
DTSTART:19700405T030000
RRULE:FREQ=YEARLY;BYMONTH=4;BYDAY=1SU
END:STANDARD
BEGIN:DAYLIGHT
TZOFFSETFROM:+1000
TZOFFSETTO:+1100
TZNAME:AEDT
DTSTART:19701004T020000
RRULE:FREQ=YEARLY;BYMONTH=10;BYDAY=1SU
END:DAYLIGHT
END:VTIMEZONE
CALSCALE:GREGORIAN
X-WR-TIMEZONE:Australia/Sydney
BEGIN:VEVENT
DTSTART;TZID=Australia/Sydney:20200211T093036
DTEND;TZID=Australia/Sydney:20200211T103047
DTSTAMP:20200211T000000Z
UID:fc114484-a894-4002-a8a8-1a990cdc5989
LOCATION:Sturt Public School 
SUMMARY;LANGUAGE=en-us:Kindergarten Bus Safety Excursion 
SEQUENCE:0
DESCRIPTION:Kindergarten students will attend a bus safety excursion to learn how to safely ride the bus during excursions and if they need to catch the bus before and after school. 
END:VEVENT
TRANSP:TRANSPARENT
END:VCALENDAR
