BEGIN:VCALENDAR
VERSION:2.0
PRODID:-//Department Of Education//037f3297-a7aa-4a30-9e39-c0dc5dd0525e
BEGIN:VTIMEZONE
TZID:Australia/Sydney
TZURL:http://tzurl.org/zoneinfo-outlook/Australia/Sydney
X-LIC-LOCATION:Australia/Sydney
BEGIN:STANDARD
TZOFFSETFROM:+1100
TZOFFSETTO:+1000
TZNAME:AEST
DTSTART:19700405T030000
RRULE:FREQ=YEARLY;BYMONTH=4;BYDAY=1SU
END:STANDARD
BEGIN:DAYLIGHT
TZOFFSETFROM:+1000
TZOFFSETTO:+1100
TZNAME:AEDT
DTSTART:19701004T020000
RRULE:FREQ=YEARLY;BYMONTH=10;BYDAY=1SU
END:DAYLIGHT
END:VTIMEZONE
CALSCALE:GREGORIAN
X-WR-TIMEZONE:Australia/Sydney
BEGIN:VEVENT
DTSTART;TZID=Australia/Sydney:20200213T180028
DTEND;TZID=Australia/Sydney:20200213T193007
DTSTAMP:20200213T000000Z
UID:93c59a58-c9a3-42d4-bcc9-edba254323a2
LOCATION:Sturt Public School 
SUMMARY;LANGUAGE=en-us:Welcome Barbecue and Parent information Evening 
SEQUENCE:0
DESCRIPTION:Our school is holding a Welcome Sausage Sizzle/ Parent Information Night.  The barbecue is an opportunity for parents and children to join together under the big COLA. It is also an opportunity to inform parents about all the activities and routines their children will be involved in throughout the year.  Classroom routines, home learning, stationary requirements, units of work studied, excursions, expectations and assessment will all be discussed. It is very important for all parents to attend so that they are fully informed and know exactly how they can support their children's learning. 
END:VEVENT
TRANSP:TRANSPARENT
END:VCALENDAR
