BEGIN:VCALENDAR
VERSION:2.0
PRODID:-//Department Of Education//2f9062a6-3625-4cd3-b067-9d958420d6c9
BEGIN:VTIMEZONE
TZID:Australia/Sydney
TZURL:http://tzurl.org/zoneinfo-outlook/Australia/Sydney
X-LIC-LOCATION:Australia/Sydney
BEGIN:STANDARD
TZOFFSETFROM:+1100
TZOFFSETTO:+1000
TZNAME:AEST
DTSTART:19700405T030000
RRULE:FREQ=YEARLY;BYMONTH=4;BYDAY=1SU
END:STANDARD
BEGIN:DAYLIGHT
TZOFFSETFROM:+1000
TZOFFSETTO:+1100
TZNAME:AEDT
DTSTART:19701004T020000
RRULE:FREQ=YEARLY;BYMONTH=10;BYDAY=1SU
END:DAYLIGHT
END:VTIMEZONE
CALSCALE:GREGORIAN
X-WR-TIMEZONE:Australia/Sydney
BEGIN:VEVENT
DTSTART;VALUE=DATE:20200325
DTEND;VALUE=DATE:20200326
DTSTAMP:20200325T000000Z
UID:5783a3eb-c36b-42c7-ac9f-d19b61971d82
LOCATION:Jubilee Park 
SUMMARY;LANGUAGE=en-us:Athletics Carnival 
SEQUENCE:0
DESCRIPTION:Our annual athletics carnival for kindergarten to Year 6 will be held at Jubilee Park where students will compete in races, and field events. 
END:VEVENT
TRANSP:TRANSPARENT
END:VCALENDAR
