BEGIN:VCALENDAR
VERSION:2.0
PRODID:-//Department Of Education//d1b8703e-37ba-4ba7-97dc-fd8f665f1f99
BEGIN:VTIMEZONE
TZID:Australia/Sydney
TZURL:http://tzurl.org/zoneinfo-outlook/Australia/Sydney
X-LIC-LOCATION:Australia/Sydney
BEGIN:STANDARD
TZOFFSETFROM:+1100
TZOFFSETTO:+1000
TZNAME:AEST
DTSTART:19700405T030000
RRULE:FREQ=YEARLY;BYMONTH=4;BYDAY=1SU
END:STANDARD
BEGIN:DAYLIGHT
TZOFFSETFROM:+1000
TZOFFSETTO:+1100
TZNAME:AEDT
DTSTART:19701004T020000
RRULE:FREQ=YEARLY;BYMONTH=10;BYDAY=1SU
END:DAYLIGHT
END:VTIMEZONE
CALSCALE:GREGORIAN
X-WR-TIMEZONE:Australia/Sydney
BEGIN:VEVENT
DTSTART;VALUE=DATE:20200401
DTEND;VALUE=DATE:20200403
DTSTAMP:20200401T000000Z
UID:5faa3d60-eb76-474e-9658-2cbc2a7427e8
LOCATION:Borambola Sport and Recreation Camp 
SUMMARY;LANGUAGE=en-us:Stage 2 Borambola Excursion 
SEQUENCE:0
DESCRIPTION:All students in Stage 2 have the opportunity to attend this overnight excursion to the Borambola Sport and Recreation Centre where students will learn to new skills and team build with thier peers. 
END:VEVENT
TRANSP:TRANSPARENT
END:VCALENDAR
