BEGIN:VCALENDAR
VERSION:2.0
PRODID:-//Department Of Education//c2e8611a-d6db-46f1-8f12-161911c5f285
BEGIN:VTIMEZONE
TZID:Australia/Sydney
TZURL:http://tzurl.org/zoneinfo-outlook/Australia/Sydney
X-LIC-LOCATION:Australia/Sydney
BEGIN:STANDARD
TZOFFSETFROM:+1100
TZOFFSETTO:+1000
TZNAME:AEST
DTSTART:19700405T030000
RRULE:FREQ=YEARLY;BYMONTH=4;BYDAY=1SU
END:STANDARD
BEGIN:DAYLIGHT
TZOFFSETFROM:+1000
TZOFFSETTO:+1100
TZNAME:AEDT
DTSTART:19701004T020000
RRULE:FREQ=YEARLY;BYMONTH=10;BYDAY=1SU
END:DAYLIGHT
END:VTIMEZONE
CALSCALE:GREGORIAN
X-WR-TIMEZONE:Australia/Sydney
BEGIN:VEVENT
DTSTART;VALUE=DATE:20200406
DTEND;VALUE=DATE:20200409
DTSTAMP:20200406T000000Z
UID:6a83e822-756d-445d-8c66-8a6a1a32af11
LOCATION:Ballarat
SUMMARY;LANGUAGE=en-us:Stage 3 Ballarat Excursion 
SEQUENCE:0
DESCRIPTION:All Stage 3 students have th opportunity to attend this excursion to Ballarat.  
END:VEVENT
TRANSP:TRANSPARENT
END:VCALENDAR
